BEGIN:VCALENDAR
VERSION:2.0
PRODID:-//Harley Davidson Club Estonia - ECPv6.13.1//NONSGML v1.0//EN
CALSCALE:GREGORIAN
METHOD:PUBLISH
X-ORIGINAL-URL:https://harley.ee
X-WR-CALDESC:Events for Harley Davidson Club Estonia
REFRESH-INTERVAL;VALUE=DURATION:PT1H
X-Robots-Tag:noindex
X-PUBLISHED-TTL:PT1H
BEGIN:VTIMEZONE
TZID:Europe/Tallinn
BEGIN:DAYLIGHT
TZOFFSETFROM:+0200
TZOFFSETTO:+0300
TZNAME:EEST
DTSTART:20220327T010000
END:DAYLIGHT
BEGIN:STANDARD
TZOFFSETFROM:+0300
TZOFFSETTO:+0200
TZNAME:EET
DTSTART:20221030T010000
END:STANDARD
END:VTIMEZONE
BEGIN:VEVENT
DTSTART;VALUE=DATE:20221227
DTEND;VALUE=DATE:20221228
DTSTAMP:20260422T093538
CREATED:20220106T162321Z
LAST-MODIFIED:20220106T162321Z
UID:588-1672099200-1672185599@harley.ee
SUMMARY:Aleksandr
DESCRIPTION:
URL:https://harley.ee/event/aleksandr
END:VEVENT
BEGIN:VEVENT
DTSTART;VALUE=DATE:20221225
DTEND;VALUE=DATE:20221226
DTSTAMP:20260422T093538
CREATED:20220106T162452Z
LAST-MODIFIED:20220106T162452Z
UID:592-1671926400-1672012799@harley.ee
SUMMARY:Gennadi D
DESCRIPTION:
URL:https://harley.ee/event/gennadi-d
END:VEVENT
BEGIN:VEVENT
DTSTART;VALUE=DATE:20221206
DTEND;VALUE=DATE:20221207
DTSTAMP:20260422T093538
CREATED:20220106T162242Z
LAST-MODIFIED:20220106T162242Z
UID:586-1670284800-1670371199@harley.ee
SUMMARY:Mihhail
DESCRIPTION:
URL:https://harley.ee/event/mihhail
END:VEVENT
BEGIN:VEVENT
DTSTART;VALUE=DATE:20220925
DTEND;VALUE=DATE:20220926
DTSTAMP:20260422T093538
CREATED:20220106T161735Z
LAST-MODIFIED:20220106T161735Z
UID:570-1664064000-1664150399@harley.ee
SUMMARY:Gennadi
DESCRIPTION:
URL:https://harley.ee/event/gennadi
END:VEVENT
BEGIN:VEVENT
DTSTART;VALUE=DATE:20220907
DTEND;VALUE=DATE:20220908
DTSTAMP:20260422T093538
CREATED:20220106T162057Z
LAST-MODIFIED:20220106T162057Z
UID:580-1662508800-1662595199@harley.ee
SUMMARY:Kaupo
DESCRIPTION:
URL:https://harley.ee/event/kaupo
END:VEVENT
BEGIN:VEVENT
DTSTART;TZID=Europe/Tallinn:20220906T080000
DTEND;TZID=Europe/Tallinn:20220911T170000
DTSTAMP:20260422T093538
CREATED:20220106T163630Z
LAST-MODIFIED:20220106T163630Z
UID:594-1662451200-1662915600@harley.ee
SUMMARY:European Bike Week 2022
DESCRIPTION:
URL:https://harley.ee/event/european-bike-week-2022
LOCATION:Faaker See\, Faaker See\, Villachi maakond\, Austria
END:VEVENT
BEGIN:VEVENT
DTSTART;VALUE=DATE:20220825
DTEND;VALUE=DATE:20220826
DTSTAMP:20260422T093538
CREATED:20220106T161901Z
LAST-MODIFIED:20220106T161901Z
UID:574-1661385600-1661471999@harley.ee
SUMMARY:Roman
DESCRIPTION:
URL:https://harley.ee/event/roman
END:VEVENT
BEGIN:VEVENT
DTSTART;TZID=Europe/Tallinn:20220813T110000
DTEND;TZID=Europe/Tallinn:20220814T170000
DTSTAMP:20260422T093538
CREATED:20220216T104758Z
LAST-MODIFIED:20220216T104758Z
UID:631-1660388400-1660496400@harley.ee
SUMMARY:Valge Daami Bikeshow 2022
DESCRIPTION:
URL:https://harley.ee/event/valge-daami-bikeshow-2022
LOCATION:Raudtee- ja sidemuuseum\, Raudtee 2\, Haapsalu\, Eesti
END:VEVENT
BEGIN:VEVENT
DTSTART;VALUE=DATE:20220810
DTEND;VALUE=DATE:20220811
DTSTAMP:20260422T093538
CREATED:20220106T075855Z
LAST-MODIFIED:20220106T075855Z
UID:563-1660089600-1660175999@harley.ee
SUMMARY:Guido
DESCRIPTION:
URL:https://harley.ee/event/guido
END:VEVENT
BEGIN:VEVENT
DTSTART;VALUE=DATE:20220802
DTEND;VALUE=DATE:20220803
DTSTAMP:20260422T093538
CREATED:20220106T075959Z
LAST-MODIFIED:20220106T104550Z
UID:565-1659398400-1659484799@harley.ee
SUMMARY:Salukas
DESCRIPTION:
URL:https://harley.ee/event/salukas
END:VEVENT
BEGIN:VEVENT
DTSTART;TZID=Europe/Tallinn:20220728T080000
DTEND;TZID=Europe/Tallinn:20220731T170000
DTSTAMP:20260422T093538
CREATED:20220106T165306Z
LAST-MODIFIED:20220106T165306Z
UID:603-1658995200-1659286800@harley.ee
SUMMARY:XXXI JÕGEVATREFF 2022
DESCRIPTION:
URL:https://harley.ee/event/xxxi-jogevatreff-2022
LOCATION:Kuremaa mõisapark\, Kuremaa mõisapark\, Kuremaa\, Jõgevamaa\, Eesti
END:VEVENT
BEGIN:VEVENT
DTSTART;TZID=Europe/Tallinn:20220722T080000
DTEND;TZID=Europe/Tallinn:20220724T170000
DTSTAMP:20260422T093538
CREATED:20220106T164305Z
LAST-MODIFIED:20220117T110208Z
UID:597-1658476800-1658682000@harley.ee
SUMMARY:Mototoober 2022
DESCRIPTION:
URL:https://harley.ee/event/mototoober-2022
LOCATION:Karujärve Kämping\, Karujärve Kämping\, Leisi\, Eesti
END:VEVENT
BEGIN:VEVENT
DTSTART;TZID=Europe/Tallinn:20220708T080000
DTEND;TZID=Europe/Tallinn:20220710T170000
DTSTAMP:20260422T093538
CREATED:20220106T170418Z
LAST-MODIFIED:20220106T170418Z
UID:607-1657267200-1657472400@harley.ee
SUMMARY:Blues-Bike Festival Suzdal
DESCRIPTION:
URL:https://harley.ee/event/blues-bike-festival-suzdal
LOCATION:Suzdal\, Suzdal\, Suzdal\, Suzdal\, Venemaa
END:VEVENT
BEGIN:VEVENT
DTSTART;VALUE=DATE:20220630
DTEND;VALUE=DATE:20220701
DTSTAMP:20260422T093538
CREATED:20220106T161625Z
LAST-MODIFIED:20220106T161625Z
UID:568-1656547200-1656633599@harley.ee
SUMMARY:Andres
DESCRIPTION:
URL:https://harley.ee/event/andres
END:VEVENT
BEGIN:VEVENT
DTSTART;TZID=Europe/Tallinn:20220601T080000
DTEND;TZID=Europe/Tallinn:20220605T170000
DTSTAMP:20260422T093538
CREATED:20220106T070612Z
LAST-MODIFIED:20220106T070747Z
UID:552-1654070400-1654448400@harley.ee
SUMMARY:FH-DCE Super Rally 2022
DESCRIPTION:
URL:https://harley.ee/event/fh-dce-super-rally-2022
LOCATION:Öland Swerige\, Öland
END:VEVENT
BEGIN:VEVENT
DTSTART;VALUE=DATE:20220520
DTEND;VALUE=DATE:20220521
DTSTAMP:20260422T093538
CREATED:20220106T162202Z
LAST-MODIFIED:20220106T162714Z
UID:584-1653004800-1653091199@harley.ee
SUMMARY:Andrei
DESCRIPTION:
URL:https://harley.ee/event/andrei
END:VEVENT
BEGIN:VEVENT
DTSTART;VALUE=DATE:20220520
DTEND;VALUE=DATE:20220523
DTSTAMP:20260422T093538
CREATED:20220120T110718Z
LAST-MODIFIED:20220120T110718Z
UID:617-1653004800-1653263999@harley.ee
SUMMARY:Spring Festival
DESCRIPTION:
URL:https://harley.ee/event/spring-festival
LOCATION:Ольшаники\, Центральная\, 50\, пос. Ольшаники\, Выборгский район\, Venemaa
END:VEVENT
BEGIN:VEVENT
DTSTART;VALUE=DATE:20220501
DTEND;VALUE=DATE:20220502
DTSTAMP:20260422T093538
CREATED:20220106T070935Z
LAST-MODIFIED:20220106T070935Z
UID:560-1651363200-1651449599@harley.ee
SUMMARY:Kaspar
DESCRIPTION:
URL:https://harley.ee/event/kaspar
END:VEVENT
BEGIN:VEVENT
DTSTART;TZID=Europe/Tallinn:20220430T180000
DTEND;TZID=Europe/Tallinn:20220430T230000
DTSTAMP:20260422T093538
CREATED:20211229T115048Z
LAST-MODIFIED:20211229T115244Z
UID:548-1651341600-1651359600@harley.ee
SUMMARY:Volbrimöll 2022
DESCRIPTION:
URL:https://harley.ee/event/volbrimoll-2022
END:VEVENT
BEGIN:VEVENT
DTSTART;VALUE=DATE:20220301
DTEND;VALUE=DATE:20220302
DTSTAMP:20260422T093538
CREATED:20220106T162131Z
LAST-MODIFIED:20220106T162131Z
UID:582-1646092800-1646179199@harley.ee
SUMMARY:Jan
DESCRIPTION:
URL:https://harley.ee/event/jan
END:VEVENT
BEGIN:VEVENT
DTSTART;VALUE=DATE:20220227
DTEND;VALUE=DATE:20220228
DTSTAMP:20260422T093538
CREATED:20220106T162404Z
LAST-MODIFIED:20220106T162404Z
UID:590-1645920000-1646006399@harley.ee
SUMMARY:Valdur
DESCRIPTION:
URL:https://harley.ee/event/valdur
END:VEVENT
BEGIN:VEVENT
DTSTART;VALUE=DATE:20220131
DTEND;VALUE=DATE:20220201
DTSTAMP:20260422T093538
CREATED:20220106T161945Z
LAST-MODIFIED:20220106T161945Z
UID:576-1643587200-1643673599@harley.ee
SUMMARY:Sergei
DESCRIPTION:
URL:https://harley.ee/event/sergei
END:VEVENT
BEGIN:VEVENT
DTSTART;VALUE=DATE:20220116
DTEND;VALUE=DATE:20220117
DTSTAMP:20260422T093538
CREATED:20220106T161827Z
LAST-MODIFIED:20220106T161827Z
UID:572-1642291200-1642377599@harley.ee
SUMMARY:Slava
DESCRIPTION:
URL:https://harley.ee/event/slava
END:VEVENT
BEGIN:VEVENT
DTSTART;VALUE=DATE:20220102
DTEND;VALUE=DATE:20220103
DTSTAMP:20260422T093538
CREATED:20220106T162022Z
LAST-MODIFIED:20220106T162022Z
UID:578-1641081600-1641167999@harley.ee
SUMMARY:Vitali
DESCRIPTION:
URL:https://harley.ee/event/vitali
END:VEVENT
END:VCALENDAR